BEGIN:VCALENDAR
VERSION:2.0
PRODID:-//Plone.org//NONSGML plone.app.event//EN
X-WR-TIMEZONE:Brazil/East
BEGIN:VEVENT
SUMMARY:Reunião com a secretária de assistência Social - Pauta: Morador
 es de rua
DTSTART;TZID=Brazil/East;VALUE=DATE-TIME:20200217T170000
DTEND;TZID=Brazil/East;VALUE=DATE-TIME:20200217T190000
DTSTAMP;VALUE=DATE-TIME:20260420T192702Z
UID:938f8ce2d8264caeb0264bce089ac97a@www.barradogarcas.mt.leg.br
CONTACT:Deógenes Nogueira\, (66) 9/96007035
CREATED;VALUE=DATE-TIME:20200214T113008Z
LAST-MODIFIED;VALUE=DATE-TIME:20200217T162130Z
LOCATION:Sala da presidência - Câmara Municipal
URL:https://www.barradogarcas.mt.leg.br/institucional/eventos/reuniao-com-
 a-secretaria-de-assistencia-social-pauta-moradores-de-rua
END:VEVENT
BEGIN:VTIMEZONE
TZID:Brazil/East
X-LIC-LOCATION:Brazil/East
BEGIN:STANDARD
DTSTART;VALUE=DATE-TIME:20200215T230000
TZNAME:BRT
TZOFFSETFROM:-0200
TZOFFSETTO:-0300
END:STANDARD
END:VTIMEZONE
END:VCALENDAR
