BEGIN:VCALENDAR
VERSION:2.0
PRODID:-//Plone.org//NONSGML plone.app.event//EN
X-WR-TIMEZONE:Brazil/East
BEGIN:VEVENT
SUMMARY:Reunião da Comissão de Constituição Justiça e Redação às 1
 4h30
DTSTART;VALUE=DATE:20151112
DTEND;VALUE=DATE:20151113
DTSTAMP;VALUE=DATE-TIME:20260420T212104Z
UID:a5bc42ba9030494d93cdc3a3c1008c07@barradogarcas.mt.leg.br
CREATED;VALUE=DATE-TIME:20151218T193655Z
LAST-MODIFIED;VALUE=DATE-TIME:20160202T170920Z
URL:https://www.barradogarcas.mt.leg.br/institucional/eventos/reuniao-da-c
 omissao-de-constituicao-justica-e-redacao-as-14h30-4
END:VEVENT
END:VCALENDAR
