BEGIN:VCALENDAR
VERSION:2.0
PRODID:-//Plone.org//NONSGML plone.app.event//EN
X-WR-TIMEZONE:Brazil/East
BEGIN:VEVENT
SUMMARY:Reunião da Comissão de Constituição Justiça e Redação às 1
 4h30
DTSTART;VALUE=DATE:20151022
DTEND;VALUE=DATE:20151023
DTSTAMP;VALUE=DATE-TIME:20260421T174358Z
UID:982a3abed3ad4954b8ce72fdf3b77083@barradogarcas.mt.leg.br
CREATED;VALUE=DATE-TIME:20151218T193753Z
LAST-MODIFIED;VALUE=DATE-TIME:20160202T170949Z
URL:https://www.barradogarcas.mt.leg.br/institucional/eventos/reuniao-da-c
 omissao-de-constituicao-justica-e-redacao-as-14h30-7
END:VEVENT
END:VCALENDAR
