BEGIN:VCALENDAR
VERSION:2.0
PRODID:-//Plone.org//NONSGML plone.app.event//EN
X-WR-TIMEZONE:Brazil/East
BEGIN:VEVENT
SUMMARY:Reunião da Comissão de Constituição Justiça e Redação às 1
 4h30
DTSTART;VALUE=DATE:20151203
DTEND;VALUE=DATE:20151204
DTSTAMP;VALUE=DATE-TIME:20260421T215138Z
UID:d2083dda0b364f6e863348fbbf43fbc2@barradogarcas.mt.leg.br
CREATED;VALUE=DATE-TIME:20151218T193403Z
LAST-MODIFIED;VALUE=DATE-TIME:20160202T162415Z
URL:https://www.barradogarcas.mt.leg.br/institucional/eventos/reuniao-da-c
 omissao-de-constituicao-justica-e-redacao-as-14h30
END:VEVENT
END:VCALENDAR
