BEGIN:VCALENDAR
VERSION:2.0
PRODID:-//Plone.org//NONSGML plone.app.event//EN
X-WR-TIMEZONE:Brazil/East
BEGIN:VEVENT
SUMMARY:Reunião da Comissão de Economia e Finanças às 14h30
DTSTART;VALUE=DATE:20151008
DTEND;VALUE=DATE:20151009
DTSTAMP;VALUE=DATE-TIME:20260421T052528Z
UID:2fec0a868f8744c1a594e42d84c9fdda@barradogarcas.mt.leg.br
CREATED;VALUE=DATE-TIME:20151218T194009Z
LAST-MODIFIED;VALUE=DATE-TIME:20160202T171019Z
URL:https://www.barradogarcas.mt.leg.br/institucional/eventos/reuniao-da-c
 omissao-de-economia-e-financas-as-14h30-2
END:VEVENT
END:VCALENDAR
