BEGIN:VCALENDAR
VERSION:2.0
PRODID:-//Plone.org//NONSGML plone.app.event//EN
X-WR-TIMEZONE:Brazil/East
BEGIN:VEVENT
SUMMARY:Reunião da Comissão de Economia e Finanças às 14h30
DTSTART;VALUE=DATE:20151112
DTEND;VALUE=DATE:20151113
DTSTAMP;VALUE=DATE-TIME:20260420T225942Z
UID:5989069179d84f6eb588d1a6f62bf044@barradogarcas.mt.leg.br
CREATED;VALUE=DATE-TIME:20151218T194052Z
LAST-MODIFIED;VALUE=DATE-TIME:20160202T171037Z
URL:https://www.barradogarcas.mt.leg.br/institucional/eventos/reuniao-da-c
 omissao-de-economia-e-financas-as-14h30-4
END:VEVENT
END:VCALENDAR
