BEGIN:VCALENDAR
VERSION:2.0
PRODID:-//Plone.org//NONSGML plone.app.event//EN
X-WR-TIMEZONE:Brazil/East
BEGIN:VEVENT
SUMMARY:Reunião da Comissão de Economia e Finanças às 14h30
DTSTART;VALUE=DATE:20160211
DTEND;VALUE=DATE:20160212
DTSTAMP;VALUE=DATE-TIME:20260421T182240Z
UID:c09baea7c8864459882765b2875d354c@www.barradogarcas.mt.leg.br
CREATED;VALUE=DATE-TIME:20160211T165310Z
DESCRIPTION:Reunião para a deliberação dos seguinte projeto: PARECER PR
 ÉVIO Nº 141/2015 do Tribunal de Contas - MT.
LAST-MODIFIED;VALUE=DATE-TIME:20160211T165509Z
URL:https://www.barradogarcas.mt.leg.br/institucional/eventos/reuniao-da-c
 omissao-de-economia-e-financas-as-14h30-5
END:VEVENT
END:VCALENDAR
