BEGIN:VCALENDAR
VERSION:2.0
PRODID:-//Plone.org//NONSGML plone.app.event//EN
X-WR-TIMEZONE:Brazil/East
BEGIN:VEVENT
SUMMARY:Reunião da Comissão de Economia e Finanças às 14h30
DTSTART;VALUE=DATE:20151022
DTEND;VALUE=DATE:20151023
DTSTAMP;VALUE=DATE-TIME:20260420T225941Z
UID:5122d7d3394f4da08a8c52a5bdff1434@barradogarcas.mt.leg.br
CREATED;VALUE=DATE-TIME:20151218T194148Z
LAST-MODIFIED;VALUE=DATE-TIME:20160202T171056Z
URL:https://www.barradogarcas.mt.leg.br/institucional/eventos/reuniao-da-c
 omissao-de-economia-e-financas-as-14h30-7
END:VEVENT
END:VCALENDAR
