BEGIN:VCALENDAR
VERSION:2.0
PRODID:-//Plone.org//NONSGML plone.app.event//EN
X-WR-TIMEZONE:Brazil/East
BEGIN:VEVENT
SUMMARY:Reunião da Comissão de Economia e Finanças às 14h30
DTSTART;VALUE=DATE:20160204
DTEND;VALUE=DATE:20160205
DTSTAMP;VALUE=DATE-TIME:20260421T182245Z
UID:5fba003e3f7d415bb1dc225e6dd90585@barradogarcas.mt.leg.br
CREATED;VALUE=DATE-TIME:20160203T173225Z
DESCRIPTION:Reunião dos vereadores que compõem a comissão.
LAST-MODIFIED;VALUE=DATE-TIME:20160203T173257Z
URL:https://www.barradogarcas.mt.leg.br/institucional/eventos/reuniao-da-c
 omissao-de-economia-e-financas-as-14h30
END:VEVENT
END:VCALENDAR
