BEGIN:VCALENDAR
VERSION:2.0
PRODID:-//Plone.org//NONSGML plone.app.event//EN
X-WR-TIMEZONE:Brazil/East
BEGIN:VEVENT
SUMMARY:Reunião da Comissão de Educação\, Cultura\, Saúde e Assistên
 cia Social às 17h
DTSTART;VALUE=DATE:20151119
DTEND;VALUE=DATE:20151120
DTSTAMP;VALUE=DATE-TIME:20260420T192637Z
UID:aa68ef9bb8d7472cb32b9e7240b94432@barradogarcas.mt.leg.br
CREATED;VALUE=DATE-TIME:20151218T194511Z
LAST-MODIFIED;VALUE=DATE-TIME:20160202T171132Z
URL:https://www.barradogarcas.mt.leg.br/institucional/eventos/reuniao-da-c
 omissao-de-educacao-cultura-saude-e-assistencia-social-as-17h-6
END:VEVENT
END:VCALENDAR
