BEGIN:VCALENDAR
VERSION:2.0
PRODID:-//Plone.org//NONSGML plone.app.event//EN
X-WR-TIMEZONE:Brazil/East
BEGIN:VEVENT
SUMMARY:Reunião da Comissão de Obras Públicas\, Transporte\, Comunicaç
 ão e Meio Ambiente às 14h30
DTSTART;VALUE=DATE:20151210
DTEND;VALUE=DATE:20151211
DTSTAMP;VALUE=DATE-TIME:20260421T144522Z
UID:a5480f809ede4fb9b7a2ce66a2475d08@barradogarcas.mt.leg.br
CREATED;VALUE=DATE-TIME:20151218T195033Z
LAST-MODIFIED;VALUE=DATE-TIME:20160202T171208Z
URL:https://www.barradogarcas.mt.leg.br/institucional/eventos/reuniao-da-c
 omissao-de-obras-publicas-transporte-comunicacao-e-meio-ambiente-as-14h30-
 1
END:VEVENT
END:VCALENDAR
