BEGIN:VCALENDAR
VERSION:2.0
PRODID:-//Plone.org//NONSGML plone.app.event//EN
X-WR-TIMEZONE:Brazil/East
BEGIN:VEVENT
SUMMARY:Reunião da Comissão de Obras Públicas\, Transporte\, Comunicaç
 ão e Meio Ambiente às 14h30
DTSTART;VALUE=DATE:20151126
DTEND;VALUE=DATE:20151127
DTSTAMP;VALUE=DATE-TIME:20260421T144432Z
UID:67d1b223f9ee4deca7ce2bce5ec868f0@barradogarcas.mt.leg.br
CREATED;VALUE=DATE-TIME:20151218T195122Z
LAST-MODIFIED;VALUE=DATE-TIME:20160202T171217Z
URL:https://www.barradogarcas.mt.leg.br/institucional/eventos/reuniao-da-c
 omissao-de-obras-publicas-transporte-comunicacao-e-meio-ambiente-as-14h30-
 2
END:VEVENT
END:VCALENDAR
