BEGIN:VCALENDAR
VERSION:2.0
PRODID:-//Plone.org//NONSGML plone.app.event//EN
X-WR-TIMEZONE:Brazil/East
BEGIN:VEVENT
SUMMARY:Reunião das Comissões Permanentes
DTSTART;TZID=Brazil/East;VALUE=DATE-TIME:20170306T190000
DTSTAMP;VALUE=DATE-TIME:20260422T072711Z
UID:80fe9772ab12471a8a76bb84a28f0a61@barradogarcas.mt.leg.br
CREATED;VALUE=DATE-TIME:20170327T160736Z
LAST-MODIFIED;VALUE=DATE-TIME:20170327T161224Z
URL:https://www.barradogarcas.mt.leg.br/institucional/eventos/reuniao-das-
 comissoes-permanentes-3
END:VEVENT
BEGIN:VTIMEZONE
TZID:Brazil/East
X-LIC-LOCATION:Brazil/East
BEGIN:STANDARD
DTSTART;VALUE=DATE-TIME:20170218T230000
TZNAME:BRT
TZOFFSETFROM:-0200
TZOFFSETTO:-0300
END:STANDARD
END:VTIMEZONE
END:VCALENDAR
