BEGIN:VCALENDAR
VERSION:2.0
PRODID:-//Plone.org//NONSGML plone.app.event//EN
X-WR-TIMEZONE:Brazil/East
BEGIN:VEVENT
SUMMARY:Reunião das Comissões Permanentes
DTSTART;TZID=Brazil/East;VALUE=DATE-TIME:20170403T190000
DTEND;TZID=Brazil/East;VALUE=DATE-TIME:20170403T200000
DTSTAMP;VALUE=DATE-TIME:20260422T072711Z
UID:e37bed8c70ca49ed9745bc57d73826b4@barradogarcas.mt.leg.br
CREATED;VALUE=DATE-TIME:20170403T195141Z
LAST-MODIFIED;VALUE=DATE-TIME:20170403T195309Z
LOCATION:Anexo da Câmara Municipal
URL:https://www.barradogarcas.mt.leg.br/institucional/eventos/reuniao-das-
 comissoes-permanentes-4
END:VEVENT
BEGIN:VTIMEZONE
TZID:Brazil/East
X-LIC-LOCATION:Brazil/East
BEGIN:STANDARD
DTSTART;VALUE=DATE-TIME:20170218T230000
TZNAME:BRT
TZOFFSETFROM:-0200
TZOFFSETTO:-0300
END:STANDARD
END:VTIMEZONE
END:VCALENDAR
