BEGIN:VCALENDAR
VERSION:2.0
PRODID:-//Plone.org//NONSGML plone.app.event//EN
X-WR-TIMEZONE:Brazil/East
BEGIN:VEVENT
SUMMARY:Reunião das Comissões Permanentes às 18h
DTSTART;VALUE=DATE:20160229
DTEND;VALUE=DATE:20160301
DTSTAMP;VALUE=DATE-TIME:20260421T180017Z
UID:7aff551bcb5b4b229dcd58340c74bdb3@www.barradogarcas.mt.leg.br
CREATED;VALUE=DATE-TIME:20160226T182035Z
DESCRIPTION:Comissão de Constituição\, Justiça e Redação\; Comissão
  de Economia e Finanças\; Comissão de Educação\, Cultura\, Saúde e As
 sistência Social\; Comissão de Obras Públicas\, Transporte\, Comunicaç
 ão e Meio Ambiente.
LAST-MODIFIED;VALUE=DATE-TIME:20160226T182105Z
URL:https://www.barradogarcas.mt.leg.br/institucional/eventos/reuniao-das-
 comissoes-permanentes-as-18h
END:VEVENT
END:VCALENDAR
