BEGIN:VCALENDAR
VERSION:2.0
PRODID:-//Plone.org//NONSGML plone.app.event//EN
X-WR-TIMEZONE:Brazil/East
BEGIN:VEVENT
SUMMARY:Reunião das Comissões Permanentes às 19h
DTSTART;VALUE=DATE:20160523
DTEND;VALUE=DATE:20160524
DTSTAMP;VALUE=DATE-TIME:20260421T135021Z
UID:aa145ce9f34d4fa083853be1957a4e9c@www.barradogarcas.mt.leg.br
CREATED;VALUE=DATE-TIME:20160520T195243Z
LAST-MODIFIED;VALUE=DATE-TIME:20160520T195400Z
LOCATION:Plenário da Câmara Municipal
URL:https://www.barradogarcas.mt.leg.br/institucional/eventos/reuniao-das-
 comissoes-permanentes-as-19h-11
END:VEVENT
END:VCALENDAR
