BEGIN:VCALENDAR
VERSION:2.0
PRODID:-//Plone.org//NONSGML plone.app.event//EN
X-WR-TIMEZONE:Brazil/East
BEGIN:VEVENT
SUMMARY:Reunião das Comissões Permanentes às 19h
DTSTART;VALUE=DATE:20160627
DTEND;VALUE=DATE:20160628
DTSTAMP;VALUE=DATE-TIME:20260421T135030Z
UID:244d576f408a40dc95a8a3beb79d6220@www.barradogarcas.mt.leg.br
CREATED;VALUE=DATE-TIME:20160627T162103Z
LAST-MODIFIED;VALUE=DATE-TIME:20160627T162353Z
LOCATION:Plenário da Câmara Municipal
URL:https://www.barradogarcas.mt.leg.br/institucional/eventos/reuniao-das-
 comissoes-permanentes-as-19h-14
END:VEVENT
END:VCALENDAR
