BEGIN:VCALENDAR
VERSION:2.0
PRODID:-//Plone.org//NONSGML plone.app.event//EN
X-WR-TIMEZONE:Brazil/East
BEGIN:VEVENT
SUMMARY:Reunião das Comissões Permanentes às 19h
DTSTART;TZID=Brazil/East;VALUE=DATE-TIME:20170508T190000
DTEND;TZID=Brazil/East;VALUE=DATE-TIME:20170508T200000
DTSTAMP;VALUE=DATE-TIME:20260421T083733Z
UID:d05128ba3f9940e8b98ec5b07640e181@barradogarcas.mt.leg.br
CREATED;VALUE=DATE-TIME:20170508T205541Z
LAST-MODIFIED;VALUE=DATE-TIME:20170508T205736Z
LOCATION:Anexo da Câmara Municipal
URL:https://www.barradogarcas.mt.leg.br/institucional/eventos/reuniao-das-
 comissoes-permanentes-as-19h-16
END:VEVENT
BEGIN:VTIMEZONE
TZID:Brazil/East
X-LIC-LOCATION:Brazil/East
BEGIN:STANDARD
DTSTART;VALUE=DATE-TIME:20170218T230000
TZNAME:BRT
TZOFFSETFROM:-0200
TZOFFSETTO:-0300
END:STANDARD
END:VTIMEZONE
END:VCALENDAR
