BEGIN:VCALENDAR
VERSION:2.0
PRODID:-//Plone.org//NONSGML plone.app.event//EN
X-WR-TIMEZONE:Brazil/East
BEGIN:VEVENT
SUMMARY:Reunião das Comissões Permanentes às 19h
DTSTART;VALUE=DATE:20170911
DTEND;VALUE=DATE:20170912
DTSTAMP;VALUE=DATE-TIME:20260421T083733Z
UID:92c34d84c7564f91bdca160e7b47bdb8@barradogarcas.mt.leg.br
CREATED;VALUE=DATE-TIME:20180205T170133Z
LAST-MODIFIED;VALUE=DATE-TIME:20180205T170538Z
LOCATION:Anexo da Câmara Municipal
URL:https://www.barradogarcas.mt.leg.br/institucional/eventos/reuniao-das-
 comissoes-permanentes-as-19h-31
END:VEVENT
END:VCALENDAR
