BEGIN:VCALENDAR
VERSION:2.0
PRODID:-//Plone.org//NONSGML plone.app.event//EN
X-WR-TIMEZONE:Brazil/East
BEGIN:VEVENT
SUMMARY:Reunião das Comissões Permanentes às 19h
DTSTART;TZID=Brazil/East;VALUE=DATE-TIME:20180305T190000
DTEND;TZID=Brazil/East;VALUE=DATE-TIME:20180305T200000
DTSTAMP;VALUE=DATE-TIME:20260421T135020Z
UID:f27116475b3240d0b309f23de5e259f4@barradogarcas.mt.leg.br
CREATED;VALUE=DATE-TIME:20180305T172830Z
LAST-MODIFIED;VALUE=DATE-TIME:20180305T173117Z
LOCATION:Anexo da Câmara Municipal
URL:https://www.barradogarcas.mt.leg.br/institucional/eventos/reuniao-das-
 comissoes-permanentes-as-19h-47
END:VEVENT
BEGIN:VTIMEZONE
TZID:Brazil/East
X-LIC-LOCATION:Brazil/East
BEGIN:STANDARD
DTSTART;VALUE=DATE-TIME:20180217T230000
TZNAME:BRT
TZOFFSETFROM:-0200
TZOFFSETTO:-0300
END:STANDARD
END:VTIMEZONE
END:VCALENDAR
