BEGIN:VCALENDAR
VERSION:2.0
PRODID:-//Plone.org//NONSGML plone.app.event//EN
X-WR-TIMEZONE:Brazil/East
BEGIN:VEVENT
SUMMARY:Reunião das Comissões Permanentes às 19h
DTSTART;TZID=Brazil/East;VALUE=DATE-TIME:20180618T190000
DTEND;TZID=Brazil/East;VALUE=DATE-TIME:20180618T200000
DTSTAMP;VALUE=DATE-TIME:20260424T053049Z
UID:dd1705e6447d4ee3b26162325f7d3234@barradogarcas.mt.leg.br
CREATED;VALUE=DATE-TIME:20180625T172335Z
LAST-MODIFIED;VALUE=DATE-TIME:20180625T172731Z
LOCATION:Anexo da Câmara Municipal
URL:https://www.barradogarcas.mt.leg.br/institucional/eventos/reuniao-das-
 comissoes-permanentes-as-19h-60
END:VEVENT
BEGIN:VTIMEZONE
TZID:Brazil/East
X-LIC-LOCATION:Brazil/East
BEGIN:STANDARD
DTSTART;VALUE=DATE-TIME:20180217T230000
TZNAME:BRT
TZOFFSETFROM:-0200
TZOFFSETTO:-0300
END:STANDARD
END:VTIMEZONE
END:VCALENDAR
