BEGIN:VCALENDAR
VERSION:2.0
PRODID:-//Plone.org//NONSGML plone.app.event//EN
X-WR-TIMEZONE:Brazil/East
BEGIN:VEVENT
SUMMARY:Reunião das Comissões Permanentes às 19h
DTSTART;VALUE=DATE:20180813
DTEND;VALUE=DATE:20180814
DTSTAMP;VALUE=DATE-TIME:20260421T175955Z
UID:c4c4c1eca1824af3b91f60de50b0cff2@barradogarcas.mt.leg.br
CREATED;VALUE=DATE-TIME:20180820T165059Z
LAST-MODIFIED;VALUE=DATE-TIME:20180820T165606Z
LOCATION:Anexo da Câmara Municipal
URL:https://www.barradogarcas.mt.leg.br/institucional/eventos/reuniao-das-
 comissoes-permanentes-as-19h-63
END:VEVENT
END:VCALENDAR
