BEGIN:VCALENDAR
VERSION:2.0
PRODID:-//Plone.org//NONSGML plone.app.event//EN
X-WR-TIMEZONE:Brazil/East
BEGIN:VEVENT
SUMMARY:Reunião das Comissões Permanentes às 19h
DTSTART;TZID=Brazil/East;VALUE=DATE-TIME:20180924T190000
DTEND;TZID=Brazil/East;VALUE=DATE-TIME:20180924T200000
DTSTAMP;VALUE=DATE-TIME:20260421T171956Z
UID:cbdf35695eec4bb98d4a1b5ca4be447d@barradogarcas.mt.leg.br
CREATED;VALUE=DATE-TIME:20180924T195454Z
LAST-MODIFIED;VALUE=DATE-TIME:20180924T195623Z
LOCATION:Anexo da Câmara Municipal
URL:https://www.barradogarcas.mt.leg.br/institucional/eventos/reuniao-das-
 comissoes-permanentes-as-19h-69
END:VEVENT
BEGIN:VTIMEZONE
TZID:Brazil/East
X-LIC-LOCATION:Brazil/East
BEGIN:STANDARD
DTSTART;VALUE=DATE-TIME:20180217T230000
TZNAME:BRT
TZOFFSETFROM:-0200
TZOFFSETTO:-0300
END:STANDARD
END:VTIMEZONE
END:VCALENDAR
