BEGIN:VCALENDAR
VERSION:2.0
PRODID:-//Plone.org//NONSGML plone.app.event//EN
X-WR-TIMEZONE:Brazil/East
BEGIN:VEVENT
SUMMARY:Reunião das Comissões Permanentes às 19h
DTSTART;TZID=Brazil/East;VALUE=DATE-TIME:20181112T190000
DTEND;TZID=Brazil/East;VALUE=DATE-TIME:20181112T200000
DTSTAMP;VALUE=DATE-TIME:20260422T010100Z
UID:ca230cd899954a779a8c1c54a90c5ab2@barradogarcas.mt.leg.br
CREATED;VALUE=DATE-TIME:20181112T151201Z
LAST-MODIFIED;VALUE=DATE-TIME:20181112T151551Z
LOCATION:Anexo da Câmara Municipal
URL:https://www.barradogarcas.mt.leg.br/institucional/eventos/reuniao-das-
 comissoes-permanentes-as-19h-76
END:VEVENT
BEGIN:VTIMEZONE
TZID:Brazil/East
X-LIC-LOCATION:Brazil/East
BEGIN:DAYLIGHT
DTSTART;VALUE=DATE-TIME:20181021T010000
TZNAME:BRST
TZOFFSETFROM:-0300
TZOFFSETTO:-0200
END:DAYLIGHT
END:VTIMEZONE
END:VCALENDAR
