BEGIN:VCALENDAR
VERSION:2.0
PRODID:-//Plone.org//NONSGML plone.app.event//EN
X-WR-TIMEZONE:Brazil/East
BEGIN:VEVENT
SUMMARY:Reunião das Comissões Permanentes às 19h
DTSTART;VALUE=DATE:20160509
DTEND;VALUE=DATE:20160510
DTSTAMP;VALUE=DATE-TIME:20260422T010102Z
UID:1f5f20a260164971b2db521304da041c@www.barradogarcas.mt.leg.br
CREATED;VALUE=DATE-TIME:20160509T182836Z
LAST-MODIFIED;VALUE=DATE-TIME:20160509T182948Z
LOCATION:Plenário da Câmara Municipal
URL:https://www.barradogarcas.mt.leg.br/institucional/eventos/reuniao-das-
 comissoes-permanentes-as-19h-9
END:VEVENT
END:VCALENDAR
