BEGIN:VCALENDAR
VERSION:2.0
PRODID:-//Plone.org//NONSGML plone.app.event//EN
X-WR-TIMEZONE:Brazil/East
BEGIN:VEVENT
SUMMARY:Reunião das Comissões Permanentes às 19h
DTSTART;VALUE=DATE:20160307
DTEND;VALUE=DATE:20160308
DTSTAMP;VALUE=DATE-TIME:20260421T110649Z
UID:af8c11171ee64579b4e1121189309d98@www.barradogarcas.mt.leg.br
CREATED;VALUE=DATE-TIME:20160304T170245Z
DESCRIPTION:Comissão de Constituição\, Justiça e Redação\; Comissão
  de Economia e Finanças\; Comissão de Educação\, Cultura\, Saúde e As
 sistência Social\; Comissão de Obras Públicas\, Transporte\, Comunicaç
 ão e Meio Ambiente.
LAST-MODIFIED;VALUE=DATE-TIME:20160304T170403Z
URL:https://www.barradogarcas.mt.leg.br/institucional/eventos/reuniao-das-
 comissoes-permanentes-as-19h
END:VEVENT
END:VCALENDAR
