BEGIN:VCALENDAR
VERSION:2.0
PRODID:-//Plone.org//NONSGML plone.app.event//EN
X-WR-TIMEZONE:Brazil/East
BEGIN:VEVENT
SUMMARY:Reuniões das Comissões Permanentes às 19h
DTSTART;TZID=Brazil/East;VALUE=DATE-TIME:20170220T190000
DTSTAMP;VALUE=DATE-TIME:20260422T023945Z
UID:ee2730ce2131494d91e2b49e1272511e@barradogarcas.mt.leg.br
CREATED;VALUE=DATE-TIME:20170220T164416Z
DESCRIPTION:Comissão de Constituição\, Justiça e Redação\; Comissão
  de Economia e Finanças\; Comissão de Educação\, Saúde e Assistência
  Social\; Comissão de Obras Públicas\, Transporte\, Comunicação e Meio
  Ambiente.
LAST-MODIFIED;VALUE=DATE-TIME:20170220T164451Z
LOCATION:Anexo da Câmara Municipal "Vereador Paulo Reis de Freitas"
URL:https://www.barradogarcas.mt.leg.br/institucional/eventos/reunioes-das
 -comissoes-permanentes-as-19h
END:VEVENT
BEGIN:VTIMEZONE
TZID:Brazil/East
X-LIC-LOCATION:Brazil/East
BEGIN:STANDARD
DTSTART;VALUE=DATE-TIME:20170218T230000
TZNAME:BRT
TZOFFSETFROM:-0200
TZOFFSETTO:-0300
END:STANDARD
END:VTIMEZONE
END:VCALENDAR
