BEGIN:VCALENDAR
VERSION:2.0
PRODID:-//Plone.org//NONSGML plone.app.event//EN
X-WR-TIMEZONE:Brazil/East
BEGIN:VEVENT
SUMMARY:Sessão Ordinária às 20h
DTSTART;TZID=Brazil/East;VALUE=DATE-TIME:20201214T200000
DTEND;TZID=Brazil/East;VALUE=DATE-TIME:20201214T230000
DTSTAMP;VALUE=DATE-TIME:20260421T051842Z
UID:9fed0c9051f8480391f3c681823e3e88@www.barradogarcas.mt.leg.br
CREATED;VALUE=DATE-TIME:20201214T224031Z
LAST-MODIFIED;VALUE=DATE-TIME:20201214T224049Z
URL:https://www.barradogarcas.mt.leg.br/institucional/eventos/sessao-ordin
 aria-as-20h-3
END:VEVENT
BEGIN:VTIMEZONE
TZID:Brazil/East
X-LIC-LOCATION:Brazil/East
BEGIN:DAYLIGHT
DTSTART;VALUE=DATE-TIME:20201018T010000
TZNAME:BRST
TZOFFSETFROM:-0300
TZOFFSETTO:-0200
END:DAYLIGHT
END:VTIMEZONE
END:VCALENDAR
