BEGIN:VCALENDAR
VERSION:2.0
PRODID:-//Plone.org//NONSGML plone.app.event//EN
X-WR-TIMEZONE:Brazil/East
BEGIN:VEVENT
SUMMARY:Sessão Ordinária às 20h
DTSTART;TZID=Brazil/East;VALUE=DATE-TIME:20201123T200000
DTEND;TZID=Brazil/East;VALUE=DATE-TIME:20201123T230000
DTSTAMP;VALUE=DATE-TIME:20260420T224654Z
UID:6ea1213881864f2594b46af17dbdd8fd@www.barradogarcas.mt.leg.br
CREATED;VALUE=DATE-TIME:20201123T214402Z
LAST-MODIFIED;VALUE=DATE-TIME:20201123T214420Z
URL:https://www.barradogarcas.mt.leg.br/institucional/eventos/sessao-ordin
 aria-as-20h
END:VEVENT
BEGIN:VTIMEZONE
TZID:Brazil/East
X-LIC-LOCATION:Brazil/East
BEGIN:DAYLIGHT
DTSTART;VALUE=DATE-TIME:20201018T010000
TZNAME:BRST
TZOFFSETFROM:-0300
TZOFFSETTO:-0200
END:DAYLIGHT
END:VTIMEZONE
END:VCALENDAR
