BEGIN:VCALENDAR
VERSION:2.0
PRODID:-//Plone.org//NONSGML plone.app.event//EN
X-WR-TIMEZONE:Brazil/East
BEGIN:VEVENT
SUMMARY:Protesto contra empresa energisa
DTSTART;TZID=America/Sao_Paulo;VALUE=DATE-TIME:20191101T173000
DTEND;TZID=America/Sao_Paulo;VALUE=DATE-TIME:20191101T183000
DTSTAMP;VALUE=DATE-TIME:20260421T000103Z
UID:5ce8895200f843838b0ea164bcb6eb04@www.barradogarcas.mt.leg.br
CONTACT:Jonatan da Mata de Jesus
CREATED;VALUE=DATE-TIME:20191030T174759Z
LAST-MODIFIED;VALUE=DATE-TIME:20191030T174816Z
LOCATION:em frente empresa energisa
URL:https://www.barradogarcas.mt.leg.br/protesto-contra-empresa-energisa
END:VEVENT
BEGIN:VTIMEZONE
TZID:America/Sao_Paulo
X-LIC-LOCATION:America/Sao_Paulo
BEGIN:DAYLIGHT
DTSTART;VALUE=DATE-TIME:20191020T010000
TZNAME:BRST
TZOFFSETFROM:-0300
TZOFFSETTO:-0200
END:DAYLIGHT
END:VTIMEZONE
END:VCALENDAR
